BEGIN:VCALENDAR
VERSION:2.0
PRODID:-//ChamberMaster//Event Calendar 2.0//EN
METHOD:PUBLISH
X-PUBLISHED-TTL:P3D
REFRESH-INTERVAL:P3D
CALSCALE:GREGORIAN
BEGIN:VEVENT
DTSTART:20240517T163000Z
DTEND:20240517T173000Z
X-MICROSOFT-CDO-ALLDAYEVENT:FALSE
SUMMARY:Ribbon Cutting for Emerald Lawns
DESCRIPTION:Join us as we welcome and cut the ribbon for\n\n\n\nEmerald Lawns
X-ALT-DESC;FMTTYPE=text/html:<p style="text-align: center\;"><span style="font-size:16px\;"><span style="font-family:arial\;"><strong background-color:="" font-size:="" style="color: rgb(51\, 51\, 51)\; font-family: sans-serif\, Arial\, Verdana\, " text-align:="" trebuchet="">Join us as we welcome and cut the ribbon for</strong></span></span><br />\n<br />\n<span style="font-size: 22px\;"><b>Emerald Lawns</b></span><br />\n<br />\n&nbsp\;</p>\n
LOCATION:3912 Euless South Main St. Euless\, TX 76040
UID:e.2524.23661
SEQUENCE:3
DTSTAMP:20260421T105458Z
URL:https://business.heb.org/events/details/ribbon-cutting-for-emerald-lawns-23661
END:VEVENT

END:VCALENDAR
