BEGIN:VCALENDAR
VERSION:2.0
PRODID:-//ChamberMaster//Event Calendar 2.0//EN
METHOD:PUBLISH
X-PUBLISHED-TTL:P3D
REFRESH-INTERVAL:P3D
CALSCALE:GREGORIAN
BEGIN:VEVENT
DTSTART:20200507T204500Z
DTEND:20200507T220000Z
X-MICROSOFT-CDO-ALLDAYEVENT:FALSE
SUMMARY:Rescheduled to May 14 - Chamber Unplugged ONLINE
DESCRIPTION:Chamber Unplugged is our after-hours networking event. Join us for great conversation as we learn about a member's business and get some updated Chamber information.
X-ALT-DESC;FMTTYPE=text/html:<span style="font-size:16px\;"><span style="color: rgb(51\, 51\, 51)\; font-family: sans-serif\, Arial\, Verdana\, &quot\;Trebuchet MS&quot\;\;"><strong style="color: rgb(35\, 35\, 51)\; font-family: tahoma\;">Chamber Unplugged</strong></span><span style="color: rgb(35\, 35\, 51)\; font-family: tahoma\;">&nbsp\;is our after-hours networking event. Join us for great conversation as we learn about a member&#39\;s business and get some updated Chamber information.</span></span>
LOCATION:
UID:e.2524.14300
SEQUENCE:3
DTSTAMP:20260420T173106Z
URL:https://business.heb.org/events/details/rescheduled-to-may-14-chamber-unplugged-online-14300
END:VEVENT

END:VCALENDAR
