BEGIN:VCALENDAR
VERSION:2.0
PRODID:-//ChamberMaster//Event Calendar 2.0//EN
METHOD:PUBLISH
X-PUBLISHED-TTL:P3D
REFRESH-INTERVAL:P3D
CALSCALE:GREGORIAN
BEGIN:VEVENT
DTSTART:20240305T173000Z
DTEND:20240305T190000Z
X-MICROSOFT-CDO-ALLDAYEVENT:FALSE
SUMMARY:Leadership HEB Alumni Landfill Tour at Republic Services
DESCRIPTION:This is a Republic Services Landfill Tour event for\n\nLeadership HEB Alumni members.\n\n\n\nThis tour will provide an overview of the daily operations and decades long strategic development of waste management\, including actually building the landfill\, methane gas collection/wells\, leachate management\, as well as managing environmental conditions. Don't miss this display of incredible foresight and an experience that will heighten your awareness and appreciation for sanitation workers on all levels. It nothing short of an impressive operation.\nLunch will be provided.\n\n$11 Regular Lunch\n\n$13 Gluten Free Lunch\n\n\n\nSpace is limited\, registration required. Payment must be made at time of registration.\n\n \n\n\nNEED TO PAY YOUR 2024 LEADERSHIP HEB ALUMNI DUES? CLICK HERE OR CALL THE CHAMBER OFFICE AT (817) 283-1521.
X-ALT-DESC;FMTTYPE=text/html:<div style="text-align: center\;"><span style="font-size:14px\;"><strong><span style="font-family:arial\;"><span style="font-size:16px\;">This is a Republic Services Landfill Tour event for<br />\nLeadership HEB Alumni members.</span></span></strong></span>\n\n<p class="xxmsonormal"><br />\n<span style="font-size:14px\;"><span style="font-family:arial\;">This tour will provide&nbsp\;an overview of the daily operations and decades long strategic development of waste management\, including actually building the landfill\, methane gas collection/wells\, leachate management\, as well as managing environmental conditions. Don&#39\;t miss this display of incredible foresight and an experience that will heighten your awareness and appreciation for sanitation workers on all levels.&nbsp\;It nothing short of an impressive operation.</span></span></p>\n<span style="font-size:14px\;"><strong><span style="font-family:arial\;"><span style="color:#800000\;">Lunch will be provided.<br />\n$11 Regular Lunch<br />\n$13 Gluten Free Lunch</span></span></strong><br />\n<br />\n<em><strong style="text-align: center\;"><span style="font-family: arial\;">Space is limited\, registration required. Payment must be made at time of registration.</span></strong></em></span><br />\n&nbsp\;\n<hr /><br />\n<span style="font-size:14px\;"><strong><span style="font-family:arial\;">NEED TO PAY YOUR 2024 LEADERSHIP HEB ALUMNI DUES?&nbsp\;<u><a href="https://business.heb.org/events/details/leadership-heb-alumni-dues-payment-link-05-01-2022-17738"><span style="color:#0000FF\;">CLICK HERE</span></a></u> OR CALL THE CHAMBER OFFICE AT (817) 283-1521.</span></strong></span></div>\n
LOCATION:Republic Services 800 Mosier Valley Rd. Euless\, TX 76040
UID:e.2524.23560
SEQUENCE:3
DTSTAMP:20260421T000320Z
URL:https://business.heb.org/events/details/leadership-heb-alumni-landfill-tour-at-republic-services-23560
END:VEVENT

END:VCALENDAR
