BEGIN:VCALENDAR
VERSION:2.0
PRODID:-//ChamberMaster//Event Calendar 2.0//EN
METHOD:PUBLISH
X-PUBLISHED-TTL:P3D
REFRESH-INTERVAL:P3D
CALSCALE:GREGORIAN
BEGIN:VEVENT
DTSTART:20250125T180000Z
DTEND:20250125T210000Z
X-MICROSOFT-CDO-ALLDAYEVENT:FALSE
SUMMARY:January Infuse and Peruse at Danu Wellness
DESCRIPTION:Infuse & Peruse: Sip\, Savor\, and Shop!\n\nJoin us at Danu Wellness for an afternoon of indulgence and discovery at this month's Infuse & Peruse! Immerse yourself in the cozy vibes of the season with delicious infused treats.\n\nWhat to Expect:\n\nSeasonal Delights: Savor an infused snack bar including infused hummus\, guacamole\, chocolate\, and caramel dips.\n\nExclusive Collectible: Grab a limited-edition pint glass\, available only at the event.\n\nSpecial Savings: Take advantage of event-only discounts on select products.\n\nCommunity Connection: Mingle with fellow foodies and wellness enthusiasts in a welcoming atmosphere.\n\nDon't miss this perfect blend of flavors\, fun\, and wellness! Come sip\, savor\, and explore all we have to offer.\n\n\n\nMark your calendars and stop by we can't wait to see you!
X-ALT-DESC;FMTTYPE=text/html:<div>\n<div>\n<div>\n<div style="text-align:center">&nbsp\;</div>\n</div>\n</div>\n</div>\n\n<div>\n<div>\n<div>\n<div>\n<div>\n<div>\n<p style="text-align:center"><span style="font-size:14px"><span style="font-family:arial"><strong>Infuse &amp\; Peruse: Sip\, Savor\, and Shop!</strong></span></span></p>\n\n<p style="text-align:center"><span style="font-size:14px"><span style="font-family:arial">Join us at Danu Wellness for an afternoon of indulgence and discovery at this month&rsquo\;s <em>Infuse &amp\; Peruse</em>! Immerse yourself in the cozy vibes of the season with delicious infused treats.</span></span></p>\n\n<p style="text-align:center"><span style="font-size:14px"><span style="font-family:arial"><strong>What to Expect:</strong><br />\n<strong>Seasonal Delights</strong>: Savor an infused snack bar including infused hummus\, guacamole\, chocolate\, and caramel dips.</span></span><br />\n<span style="font-size:14px"><span style="font-family:arial"><strong>Exclusive Collectible</strong>: Grab a limited-edition pint glass\, available only at the event.<br />\n<strong>Special Savings</strong>: Take advantage of event-only discounts on select products.<br />\n<strong>Community Connection</strong>: Mingle with fellow foodies and wellness enthusiasts in a welcoming atmosphere.</span></span></p>\n\n<p style="text-align:center"><span style="font-size:14px"><span style="font-family:arial">Don&rsquo\;t miss this perfect blend of flavors\, fun\, and wellness! Come sip\, savor\, and explore all we have to offer.<br />\n<br />\n<strong>Mark your calendars and stop by&mdash\;we can&rsquo\;t wait to see you!</strong></span></span></p>\n</div>\n</div>\n</div>\n</div>\n</div>\n</div>\n
LOCATION:2816 Central Dr. #110 Bedford\, TX 76021
UID:e.2524.24951
SEQUENCE:3
DTSTAMP:20260425T023732Z
URL:https://business.heb.org/events/details/january-infuse-and-peruse-at-danu-wellness-24951
END:VEVENT

END:VCALENDAR
