BEGIN:VCALENDAR
VERSION:2.0
PRODID:-//ChamberMaster//Event Calendar 2.0//EN
METHOD:PUBLISH
X-PUBLISHED-TTL:P3D
REFRESH-INTERVAL:P3D
CALSCALE:GREGORIAN
BEGIN:VEVENT
DTSTART:20191014T140000Z
DTEND:20191014T170000Z
X-MICROSOFT-CDO-ALLDAYEVENT:FALSE
SUMMARY:Creature Creator Robotics
DESCRIPTION:Need something entertaining AND educational for your student to do while school is out? \n\nIn Snapology's Creature Creator Robotics class\, your animal lover will create their own animal inspired robotic models. Students will learn about gear ratio\, sensors\, simple machines\, and programming as they build insects\, dolphins\, gorillas\, and much more. Your child is sure to have a wild time as they build\, learn\, and play\n\n\n	\n	Simple Machines\n\n	Students will learn about several simple machines throughout the class. Whether learning about pulleys while creating spiders\, or wheels and axles as they create their very own dolphins\, students will see simple machines in action. They will also begin to think critically about their surroundings and realize all the simple machines they use every day.\n	\n	\n	Axles\, Gears\, and Motors  \n\n	Children will learn about the importance of axles\, gears\, and motors in mechanical movement. They will actively experiment with these components to create their robots\, while facilitating a deeper understanding of mechanics.\n	\n	\n	Programming Skills\n\n	Each week\, children will be given a program to operate their robotic build. Students are then encouraged to use critical thinking and programming skills to enhance their robot's program. Whether making their build respond to motion and tilt sensors\, adding loops\, or creating fun sounds\, children will learn valuable programming skills in an easy to use\, drag and drop programming format.\n	\n	\n	Teamwork/Partner Skills\n\n	At Snapology\, teamwork is essential for creating a fun and productive atmosphere while
X-ALT-DESC;FMTTYPE=text/html:<h3><span style="color:rgb(0\, 0\, 0)\; font-family:roboto\,arial\,sans-serif\; font-size:18px">Need something entertaining AND educational for your student to do while school is out?&nbsp\;</span></h3>\n\n<p>In Snapology&#39\;s&nbsp\;<strong>Creature Creator Robotics</strong>&nbsp\;class\, your animal lover will create their own animal inspired robotic models. Students will learn about gear ratio\, sensors\, simple machines\, and programming as they build insects\, dolphins\, gorillas\, and much more. Your child is sure to have a wild time as they build\, learn\, and play</p>\n\n<ul>\n	<li>\n	<p><strong>Simple Machines</strong></p>\n\n	<p>Students will learn about several simple machines throughout the class. Whether learning about pulleys while creating spiders\, or wheels and axles as they create their very own dolphins\, students will see simple machines in action. They will also begin to think critically about their surroundings and realize all the simple machines they use every day.</p>\n	</li>\n	<li>\n	<p><strong>Axles\, Gears\, and Motors&nbsp\;&nbsp\;</strong></p>\n\n	<p>Children will learn about the importance of axles\, gears\, and motors in mechanical movement. They will actively experiment with these components to create their robots\, while facilitating a deeper understanding of mechanics.</p>\n	</li>\n	<li>\n	<p><strong>Programming Skills</strong></p>\n\n	<p>Each week\, children will be given a program to operate their robotic build. Students are then encouraged to use critical thinking and programming skills to enhance their robot&rsquo\;s program. Whether making their build respond to motion and tilt sensors\, adding loops\, or creating fun sounds\, children will learn valuable programming skills in an easy to use\, drag and drop programming format.</p>\n	</li>\n	<li>\n	<p><strong>Teamwork/Partner Skills</strong></p>\n\n	<p>At Snapology\, teamwork is essential for creating a fun and productive atmosphere while</p>\n	</li>\n</ul>\n
LOCATION:Viridian Regent Pavilion 1200 Viridian Park Ln Euless\, TX\, 76040
UID:e.2524.12002
SEQUENCE:3
DTSTAMP:20260419T170529Z
URL:https://business.heb.org/events/details/creature-creator-robotics-12002
END:VEVENT

END:VCALENDAR
