BEGIN:VCALENDAR
VERSION:2.0
PRODID:-//ChamberMaster//Event Calendar 2.0//EN
METHOD:PUBLISH
X-PUBLISHED-TTL:P3D
REFRESH-INTERVAL:P3D
CALSCALE:GREGORIAN
BEGIN:VEVENT
DTSTART:20221117T223000Z
DTEND:20221118T000000Z
X-MICROSOFT-CDO-ALLDAYEVENT:FALSE
SUMMARY:Chamber Unplugged @The Law Office of Antoinette Bone\, PLLC
DESCRIPTION:Chamber Unplugged is a great way to network in a fun and casual setting as you learn about a member business. \n\n\n\nThis month\, our host will be\n\nThe Law Office of Antoinette Bone\, PLLC\n\n\n\nJoin us! RSVP requested
X-ALT-DESC;FMTTYPE=text/html:<p style="text-align: center\;"><span style="font-size:16px\;"><strong>Chamber Unplugged</strong> is a great way to network in a fun and casual setting as you learn about a member business.&nbsp\;<br />\n<br />\nThis month\, our host will be<br />\n<strong><span style="font-size:20px\;">The Law Office of Antoinette Bone\, PLLC</span></strong></span><br />\n<br />\n<span style="font-size:16px\;">Join us!&nbsp\;<strong>RSVP requested</strong></span></p>\n
LOCATION:The Law Office of Antoinette Bone\, PLLC 800 N. Industrial Blvd.\, Suite 106 Euless\, TX 76039
UID:e.2524.17046
SEQUENCE:3
DTSTAMP:20260421T101637Z
URL:https://business.heb.org/events/details/chamber-unplugged-the-law-office-of-antoinette-bone-pllc-17046
END:VEVENT

END:VCALENDAR
