BEGIN:VCALENDAR
VERSION:2.0
PRODID:-//ChamberMaster//Event Calendar 2.0//EN
METHOD:PUBLISH
X-PUBLISHED-TTL:P3D
REFRESH-INTERVAL:P3D
CALSCALE:GREGORIAN
BEGIN:VEVENT
DTSTART:20181206T173000Z
DTEND:20181206T190000Z
X-MICROSOFT-CDO-ALLDAYEVENT:FALSE
SUMMARY:Ambassadors' Meeting
DESCRIPTION:Gain a front-row seat to building a network with the business leaders of HEB! Ambassadors assist in maximizing Chamber benefits and support a diverse business community by offering a strong network of advocates and mentors. They reach out to our current members to help them utilize their membership\, assist in recruiting new members and welcome guests at all Chamber functions (Chamber luncheons\, Business After Hours and other special events) They also take the lead at all Chamber ribbon cuttings and groundbreakings.\n\n \n\nThe Ambassadors usually meet the first Thursday of the month at 11:30 a.m. at the Chamber\, 2109 Martin Drive in Bedford. Lunch is provided for $5. To RSVP or for more information\, please call 817-283-1521 or email chamber@heb.org.
X-ALT-DESC;FMTTYPE=text/html:<span style="font-size:14px\;"><span style="background-image: initial\; background-position: initial\; background-size: initial\; background-repeat: initial\; background-attachment: initial\; background-origin: initial\; background-clip: initial\;"><span style="color: black\;"><span style="font-family: arial\, sans-serif\;">Gain a front</span></span></span><span style="background-image: initial\; background-position: initial\; background-size: initial\; background-repeat: initial\; background-attachment: initial\; background-origin: initial\; background-clip: initial\;"><span style="font-family: arial\, sans-serif\;">-<span style="color: black\;">row se</span>at<span style="color: black\;">&nbsp\;to building a network with the business leaders of HEB! Ambassadors assist in maximizing Chamber benefits and support a diverse business community by offering a strong network of advocates and mentors. They reach out to our current members to help them utilize their membership\, assist in recruiting new members and welcome guests at all&nbsp\;</span>C<span style="color: black\;">hamber functions (Chamber luncheons\, Business After Hours and other special events) They also take the lead at all&nbsp\;</span>C<span style="color: black\;">hamber ribbon cuttings and groundbreakings.</span></span></span><br />\n&nbsp\;<br />\n<span style="font-family: arial\, sans-serif\;">The Ambassadors usually meet the first Thursday of the month at 11:30 a.m. at the Chamber\, 2109 Martin Drive in Bedford. Lunch is provided for $5. To RSVP or for more information\, please call 817-283-1521 or email <a href="http://business.heb.org/events/details/ambassadors-meeting-8152">chamber@heb.org.</a></span></span><br />\n<br />\n<br />\n<br />\n<br />\n&nbsp\;
LOCATION:HEB Chamber 2109 Martin Drive\, Bedford\, 76021
UID:e.2524.8152
SEQUENCE:3
DTSTAMP:20260425T191430Z
URL:https://business.heb.org/events/details/ambassadors-meeting-8152
END:VEVENT

END:VCALENDAR
