BEGIN:VCALENDAR
VERSION:2.0
PRODID:-//ChamberMaster//Event Calendar 2.0//EN
METHOD:PUBLISH
X-PUBLISHED-TTL:P3D
REFRESH-INTERVAL:P3D
CALSCALE:GREGORIAN
BEGIN:VEVENT
DTSTART:20260304T160000Z
DTEND:20260304T170000Z
X-MICROSOFT-CDO-ALLDAYEVENT:FALSE
SUMMARY:2026 Golf Planning Task Force Meeting
DESCRIPTION:2026 HEB Golf Classic Planning Task Force Meeting\n\n\n\nWould you like to be a part of planning the HEB Chamber's Golf Classic? Please join us for our first meeting.  If you have questions or would like more information about this meeting\, please contact Events Manager Jennifer Jones or call the Chamber office at (817) 283-1521.
X-ALT-DESC;FMTTYPE=text/html:<div style="text-align: center\;"><strong><span style="font-size:14px\;"><span style="font-family:arial\;">2026&nbsp\;HEB Golf Classic Planning Task Force Meeting<br />\n<br />\nWould you&nbsp\;like to be a part of planning the HEB Chamber&#39\;s Golf Classic? Please join us for our first meeting.&nbsp\; If you&nbsp\;have questions or would like more information about this meeting\, please contact <u><a href="mailto:jennifer@heb.org"><span style="color:#0000FF\;">Events Manager Jennifer Jones</span></a></u> or call the Chamber office at (817) 283-1521.&nbsp\;</span></span></strong></div>\n
LOCATION:HEB Chamber of Commerce
UID:e.2524.30515
SEQUENCE:3
DTSTAMP:20260421T083041Z
URL:https://business.heb.org/events/details/2026-golf-planning-task-force-meeting-30515
END:VEVENT

END:VCALENDAR
