BEGIN:VCALENDAR
VERSION:2.0
PRODID:-//ChamberMaster//Event Calendar 2.0//EN
METHOD:PUBLISH
X-PUBLISHED-TTL:P3D
REFRESH-INTERVAL:P3D
CALSCALE:GREGORIAN
BEGIN:VEVENT
DTSTART:20240418T121500Z
DTEND:20240418T121500Z
X-MICROSOFT-CDO-ALLDAYEVENT:FALSE
SUMMARY:2024 Golf Classic Tournament
DESCRIPTION:2024 HEB Chamber Golf Classic Tournament  \n\nThe HEB Chamber's annual Golf Classic is a day of fun and fellowship and a great opportunity for you to market your business as well.\n\n \n\n\n\nDON'T STAND IN LINE - BUY YOUR TICKETS ONLINE! \n\n \n\nRegistration includes cart and green fees\, and breakfast as well as lunch. An awards presentation following play and include contests for hole-in-ones\, closest-to-the-pin\, putting and more.\n\n\n\nTrophies will be awarded for the first- and second-place teams in three flights.\n\n\n\nRegistration begin at 7:15 a.m.\n\nTee off at 8:30 a.m.\, Florida Scramble.\n\n\nUpgrade your play with a SUPER TICKET!\n\nSuper Ticket includes:\n\nTiger Drive \n\n2 mulligans\n\n2 additional door prize tickets\n\n\n\nGREAT SPONSORSHIP OPPORTUNITIES!   \n\nEagle Sponsor\n\n4 Golfers\n\nBusiness/Organization Logo on:\n\nPromotional Material\n\nWebsite Golf Page\n\nTournament Banner\n\n\n\nBirdie Sponsor\n\n2 Golfers & Tee/Green Sponsor\n\nBusiness/Organization Name on:\n\nPromotional Material\n\nWebsite Golf Page\n\nTournament Banner\n\nBusiness/Organization Logo on:\n\nDigital Signage on Tee/Green\n\n\n\nHole-in-One Sponsor\n\nBusiness/Organization Name on:\n\nPromotional Material\n\nWebsite Golf Page\n\nTournament Banner\n\nBusiness/Organization Logo on:\n\nSignage on Hole-in-One Contest Hole\n\nDigital Signage on Golf Course\n\n\n\nTee/Green Sponsor\n\nBusiness/Organization Name on:\n\nWebsite Golf Page\n\nDigital Signage on Tee/Green\n\n\n\nGoodie Bag Sponsor\n\nBusiness/Organization Name on:\n\nWebsite Golf Page\n\nProvide your business/organization marketing materials in the golfer goodie bags!\n\n150 items due to the Chamber office by Monday\, April 15th.\n\n\n\nDo you have questions or would like more information about Golf sponsorship options\, contact Event Manager Jennifer Jones or call the Chamber at (817) 283-1521.
X-ALT-DESC;FMTTYPE=text/html:<p style="text-align: center\;"><span style="color: rgb(0\, 128\, 0)\;"><strong><span style="font-size: 18px\;"><span style="font-family: arial\;">2024&nbsp\;HEB Chamber Golf Classic Tournament</span></span></strong></span><span style="color: rgb(0\, 128\, 0)\;"><strong><span style="font-size: 18px\;"><span style="font-family: arial\;">&nbsp\;&nbsp\;</span></span></strong></span></p>\n\n<div style="text-align: center\;"><span style="font-size: 16px\;"><span style="font-family: arial\;"><strong>The HEB Chamber&#39\;s annual&nbsp\;Golf Classic is a day of fun and fellowship and a great opportunity for you to market your business as well.</strong></span></span></div>\n\n<div>&nbsp\;</div>\n\n<div style="text-align: center\;"><br />\n<span style="font-size: 16px\;"><span style="font-family: arial\;"><span style="color: rgb(0\, 128\, 0)\;"><strong>DON&#39\;T STAND IN LINE -&nbsp\;BUY YOUR TICKETS ONLINE!&nbsp\;</strong></span></span></span></div>\n\n<div>&nbsp\;</div>\n\n<div style="text-align: center\;"><span style="font-size: 16px\;"><span style="font-family: arial\;">Registration includes cart and green fees\,&nbsp\;and breakfast as well as lunch. An awards presentation following play and include contests for hole-in-ones\, closest-to-the-pin\, putting&nbsp\;and more.<br />\n<br />\nTrophies will be awarded for the first- and second-place teams in three flights.</span></span><br />\n<br />\n<span style="font-size: 16px\;"><span style="font-family: arial\;"><strong>Registration begin at 7:15&nbsp\;a.m.<br />\nTee off at&nbsp\;8:30 a.m.\,&nbsp\;Florida Scramble.</strong></span></span></div>\n\n<hr />\n<p style="text-align: center\;"><span style="font-family: arial\;"><span style="font-size: 16px\;"><strong>Upgrade your play with a&nbsp\;<span style="color: blue\;"><a href="https://business.heb.org/events/details/upgrade-with-a-super-ticket-19810"><span style="color: blue\;">SUPER TICKET</span></a></span>!</strong></span><br />\n<em><span style="font-size: 14px\;"><span style="color: rgb(0\, 0\, 0)\;"><span style="font-size: 12px\;">Super Ticket includes:</span><br />\n<strong>Tiger Drive&nbsp\;<br />\n2 mulligans<br />\n2 additional door</strong></span><strong>&nbsp\;prize tickets</strong></span></em></span><br />\n<br />\n<span style="font-size:16px\;"><span style="font-family:arial\;"><span style="color: rgb(0\, 128\, 0)\;"><strong>GREAT SPONSORSHIP OPPORTUNITIES!&nbsp\; &nbsp\;</strong></span><br />\n<span style="color: rgb(178\, 34\, 34)\;"><strong><span style="line-height: 17.12px\;">Eagle Sponsor</span></strong></span><br />\n<span style="font-size:14px\;"><strong><span style="color: black\;">4 Golfers</span><br />\n<span style="font-style: italic\;"><span style="color: black\;">Business/Organization Logo on:</span></span><br />\n<span style="color: black\;">Promotional Material<br />\nWebsite Golf Page<br />\nTournament Banner</span></strong></span><br />\n<br />\n<strong><span style="line-height: 17.12px\;"><span style="color: rgb(178\, 34\, 34)\;">Birdie Sponsor</span><br />\n<span style="font-size:14px\;">2 Golfers&nbsp\;&amp\; Tee/Green&nbsp\;Sponsor</span></span></strong><br />\n<span style="font-size:14px\;"><strong><span style="font-style: italic\;"><span style="color: black\;">Business/Organization Name&nbsp\;on:</span></span><br />\n<span style="color: black\;">Promotional Material<br />\nWebsite Golf Page<br />\nTournament Banner</span><br />\n<span style="font-style: italic\;"><span style="color: black\;">Business/Organization Logo&nbsp\;on:</span></span></strong><br />\n<strong><font color="#000000">Digital Signage on Tee/Green</font></strong></span><br />\n<br />\n<span style="color: rgb(178\, 34\, 34)\;"><strong><span style="line-height: 17.12px\;">Hole-in-One Sponsor</span></strong></span><br />\n<span style="font-size:14px\;"><strong><span style="font-style: italic\;"><span style="color: black\;">Business/Organization Name&nbsp\;on:</span></span><br />\n<span style="color: black\;">Promotional Material<br />\nWebsite Golf Page<br />\nTournament Banner</span><br />\n<span style="font-style: italic\;"><span style="color: black\;">Business/Organization Logo&nbsp\;on:</span></span></strong><br />\n<strong><font color="#000000">Signage on Hole-in-One Contest Hole<br />\nDigital Signage on Golf Course</font></strong></span><br />\n<br />\n<span style="color: rgb(178\, 34\, 34)\;"><strong>Tee/Green&nbsp\;Sponsor</strong></span><br />\n<span style="font-size:14px\;"><strong><span style="font-style: italic\;"><span style="color: black\;">Business/Organization Name&nbsp\;on:</span></span><br />\n<span style="color: black\;">Website Golf Page</span></strong><br />\n<strong><font color="#000000">Digital Signage on Tee/Green</font></strong></span><br />\n<br />\n<span style="color: rgb(178\, 34\, 34)\;"><strong>Goodie Bag Sponsor</strong></span><br />\n<span style="font-size:14px\;"><strong><span style="font-style: italic\;"><span style="color: black\;">Business/Organization Name&nbsp\;on:</span></span><br />\n<span style="color: black\;">Website Golf Page</span></strong></span><br />\n<span style="font-size:14px\;"><em>Provide your business/organization marketing materials in the golfer goodie bags!<br />\n150 items due to the Chamber office by&nbsp\;<span style="font-weight: bold\;"><span style="color: rgb(178\, 34\, 34)\;">Monday\, April 15th</span>.</span></em></span></span></span><br />\n<br />\n<span style="font-family:arial\;"><span style="font-size:14px\;"><strong style="font-family: tahoma\; font-size: 16px\;">Do you have questions or would like more information about Golf sponsorship options\, contact&nbsp\;<a href="mailto:jennifer@heb.org"><span style="color: rgb(0\, 0\, 255)\;">Event Manager&nbsp\;Jennifer Jones</span></a>&nbsp\;or call the Chamber at (817) 283-1521.</strong></span></span></p>\n\n<p style="text-align: center\;">&nbsp\;</p>\n
LOCATION:Texas Star Golf Course
UID:e.2524.23396
SEQUENCE:3
DTSTAMP:20260421T085007Z
URL:https://business.heb.org/events/details/2024-golf-classic-tournament-23396
END:VEVENT

END:VCALENDAR
